BEGIN:VCALENDAR
VERSION:2.0
PRODID:-//Kristina Bant - ECPv6.15.20//NONSGML v1.0//EN
CALSCALE:GREGORIAN
METHOD:PUBLISH
X-WR-CALNAME:Kristina Bant
X-ORIGINAL-URL:http://kristinabantyoga.com
X-WR-CALDESC:Events for Kristina Bant
REFRESH-INTERVAL;VALUE=DURATION:PT1H
X-Robots-Tag:noindex
X-PUBLISHED-TTL:PT1H
BEGIN:VTIMEZONE
TZID:UTC
BEGIN:STANDARD
TZOFFSETFROM:+0000
TZOFFSETTO:+0000
TZNAME:UTC
DTSTART:20230101T000000
END:STANDARD
END:VTIMEZONE
BEGIN:VEVENT
DTSTART;TZID=UTC:20240705T120000
DTEND;TZID=UTC:20240705T130000
DTSTAMP:20260422T040747
CREATED:20240622T053226Z
LAST-MODIFIED:20240622T053226Z
UID:9187-1720180800-1720184400@kristinabantyoga.com
SUMMARY:Vinyasa
DESCRIPTION:I am subbing today\, vinyasa flow\, come join! There are no poses that a beginner can’t do\, and I always cue for proper form and learning\, and I will cue for modifications as well a advanced variations great for athletes and the advanced yogi! When I sub\, I keep my 2-week theme and the ideas from my regularly scheduled classes\, but I will shape it for this Vinyasa flow. Come check it out\, even if you like to stick to Power\, to get that well-rounded practice! Virtual practice is also available through the MindBody app. Go to yoganestvenice.com for sign-up! \n 
URL:http://kristinabantyoga.com/event/vinyasa-9/
LOCATION:Yoga Nest Venice\, 38 Washington Blvd. 2nd fl.\, Marina del Rey\, CA\, 90292\, United States
CATEGORIES:Yoga
END:VEVENT
BEGIN:VEVENT
DTSTART;TZID=UTC:20240706T110000
DTEND;TZID=UTC:20240706T120000
DTSTAMP:20260422T040747
CREATED:20240622T053324Z
LAST-MODIFIED:20240622T053324Z
UID:9189-1720263600-1720267200@kristinabantyoga.com
SUMMARY:Vinyasa
DESCRIPTION:I am subbing today\, vinyasa flow\, come join! There are no poses that a beginner can’t do\, and I always cue for proper form and learning\, and I will cue for modifications as well a advanced variations great for athletes and the advanced yogi! When I sub\, I keep my 2-week theme and the ideas from my regularly scheduled classes\, but I will shape it for this Vinyasa flow. Come check it out\, even if you like to stick to Power\, to get that well-rounded practice! Virtual practice is also available through the MindBody app. Go to yoganestvenice.com for sign-up! \n 
URL:http://kristinabantyoga.com/event/vinyasa-10/
LOCATION:Yoga Nest Venice\, 38 Washington Blvd. 2nd fl.\, Marina del Rey\, CA\, 90292\, United States
CATEGORIES:Yoga
END:VEVENT
BEGIN:VEVENT
DTSTART;TZID=UTC:20240708T180000
DTEND;TZID=UTC:20240708T190000
DTSTAMP:20260422T040747
CREATED:20240611T230442Z
LAST-MODIFIED:20240611T230442Z
UID:9176-1720461600-1720465200@kristinabantyoga.com
SUMMARY:Vinyasa
DESCRIPTION:I am subbing tonight\, vinyasa flow\, come join! There are no poses that a beginner can’t do\, and I always cue for proper form and learning\, and I will cue for modifications as well a advanced variations great for athletes and the advanced yogi! When I sub\, I keep my 2-week theme and the ideas from my regularly scheduled classes\, but I will shape it for this Vinyasa flow. Come check it out\, even if you like to stick to Power\, to get that well-rounded practice! Virtual practice is also available through the MindBody app. Go to yoganestvenice.com for sign-up! \n 
URL:http://kristinabantyoga.com/event/vinyasa-5/
LOCATION:Yoga Nest Venice\, 38 Washington Blvd. 2nd fl.\, Marina del Rey\, CA\, 90292\, United States
CATEGORIES:Yoga
END:VEVENT
BEGIN:VEVENT
DTSTART;TZID=UTC:20240709T100000
DTEND;TZID=UTC:20240709T110000
DTSTAMP:20260422T040747
CREATED:20240622T053616Z
LAST-MODIFIED:20240622T053616Z
UID:9194-1720519200-1720522800@kristinabantyoga.com
SUMMARY:Power Vinyasa
DESCRIPTION:This is my regular class\, a fun\, faster-paced\, power vinyasa flow! This has become a popular “Tribe\,” come join! There are no poses that a beginner can’t do\, and I always cue for proper form and learning\, but the pace is picked up to a fun playlist\, great for athletes and the advanced yogi! Virtual practice is also available through the MindBody app. Go to yoganestvenice.com for sign-up!
URL:http://kristinabantyoga.com/event/power-vinyasa-152/
LOCATION:Yoga Nest Venice\, 38 Washington Blvd. 2nd fl.\, Marina del Rey\, CA\, 90292\, United States
CATEGORIES:Yoga
END:VEVENT
BEGIN:VEVENT
DTSTART;TZID=UTC:20240709T180000
DTEND;TZID=UTC:20240709T190000
DTSTAMP:20260422T040747
CREATED:20240622T053849Z
LAST-MODIFIED:20240622T053849Z
UID:9196-1720548000-1720551600@kristinabantyoga.com
SUMMARY:Power Vinyasa
DESCRIPTION:This is my regular class\, a fun\, faster-paced\, power vinyasa flow! This has become a popular “Tribe\,” come join! There are no poses that a beginner can’t do\, and I always cue for proper form and learning\, but the pace is picked up to a fun playlist\, great for athletes and the advanced yogi! Virtual practice is also available through the MindBody app. Go to yoganestvenice.com for sign-up!
URL:http://kristinabantyoga.com/event/power-vinyasa-153/
LOCATION:Yoga Nest Venice\, 38 Washington Blvd. 2nd fl.\, Marina del Rey\, CA\, 90292\, United States
CATEGORIES:Yoga
END:VEVENT
BEGIN:VEVENT
DTSTART;TZID=UTC:20240710T180000
DTEND;TZID=UTC:20240710T190000
DTSTAMP:20260422T040747
CREATED:20240710T232618Z
LAST-MODIFIED:20240710T232618Z
UID:9217-1720634400-1720638000@kristinabantyoga.com
SUMMARY:Vinyasa
DESCRIPTION:I am subbing tonight\, vinyasa flow\, come join! There are no poses that a beginner can’t do\, and I always cue for proper form and learning\, and I will cue for modifications as well a advanced variations great for athletes and the advanced yogi! When I sub\, I keep my 2-week theme and the ideas from my regularly scheduled classes\, but I will shape it for this Vinyasa flow. Come check it out\, even if you like to stick to Power\, to get that well-rounded practice! Virtual practice is also available through the MindBody app. Go to yoganestvenice.com for sign-up! \n 
URL:http://kristinabantyoga.com/event/vinyasa-11/
LOCATION:Yoga Nest Venice\, 38 Washington Blvd. 2nd fl.\, Marina del Rey\, CA\, 90292\, United States
CATEGORIES:Yoga
END:VEVENT
BEGIN:VEVENT
DTSTART;TZID=UTC:20240730T180000
DTEND;TZID=UTC:20240730T190000
DTSTAMP:20260422T040747
CREATED:20240622T062553Z
LAST-MODIFIED:20240622T062553Z
UID:9213-1722362400-1722366000@kristinabantyoga.com
SUMMARY:Power Vinyasa
DESCRIPTION:This is my regular class\, a fun\, faster-paced\, power vinyasa flow! This has become a popular “Tribe\,” come join! There are no poses that a beginner can’t do\, and I always cue for proper form and learning\, but the pace is picked up to a fun playlist\, great for athletes and the advanced yogi! Virtual practice is also available through the MindBody app. Go to yoganestvenice.com for sign-up!
URL:http://kristinabantyoga.com/event/power-vinyasa-161/
LOCATION:Yoga Nest Venice\, 38 Washington Blvd. 2nd fl.\, Marina del Rey\, CA\, 90292\, United States
CATEGORIES:Yoga
END:VEVENT
END:VCALENDAR