BEGIN:VCALENDAR
VERSION:2.0
PRODID:-//Kristina Bant - ECPv6.15.20//NONSGML v1.0//EN
CALSCALE:GREGORIAN
METHOD:PUBLISH
X-ORIGINAL-URL:http://kristinabantyoga.com
X-WR-CALDESC:Events for Kristina Bant
REFRESH-INTERVAL;VALUE=DURATION:PT1H
X-Robots-Tag:noindex
X-PUBLISHED-TTL:PT1H
BEGIN:VTIMEZONE
TZID:UTC
BEGIN:STANDARD
TZOFFSETFROM:+0000
TZOFFSETTO:+0000
TZNAME:UTC
DTSTART:20230101T000000
END:STANDARD
END:VTIMEZONE
BEGIN:VEVENT
DTSTART;TZID=UTC:20240304T180000
DTEND;TZID=UTC:20240304T191000
DTSTAMP:20260423T084843
CREATED:20240304T185119Z
LAST-MODIFIED:20240304T185119Z
UID:8548-1709575200-1709579400@kristinabantyoga.com
SUMMARY:Vinyasa
DESCRIPTION:I am subbing for Jess tonight for her vinyasa flow\, come join! There are no poses that a beginner can’t do\, and I always cue for proper form and learning\, but the pace is picked up to a fun playlist\, great for athletes and the advanced yogi! Virtual practice is also available through the MindBody app. Go to yoganestvenice.com for sign-up!
URL:http://kristinabantyoga.com/event/vinyasa-4/
LOCATION:Yoga Nest Venice\, 38 Washington Blvd. 2nd fl.\, Marina del Rey\, CA\, 90292\, United States
CATEGORIES:Yoga
END:VEVENT
BEGIN:VEVENT
DTSTART;TZID=UTC:20240305T100000
DTEND;TZID=UTC:20240305T110000
DTSTAMP:20260423T084843
CREATED:20240304T184714Z
LAST-MODIFIED:20240304T184714Z
UID:8543-1709632800-1709636400@kristinabantyoga.com
SUMMARY:Power Vinyasa
DESCRIPTION:This is my regular class\, a fun\, faster-paced\, power vinyasa flow! This has become a popular “Tribe\,” come join! There are no poses that a beginner can’t do\, and I always cue for proper form and learning\, but the pace is picked up to a fun playlist\, great for athletes and the advanced yogi! Virtual practice is also available through the MindBody app. Go to yoganestvenice.com for sign-up!
URL:http://kristinabantyoga.com/event/power-vinyasa-85/
LOCATION:Yoga Nest Venice\, 38 Washington Blvd. 2nd fl.\, Marina del Rey\, CA\, 90292\, United States
CATEGORIES:Yoga
END:VEVENT
BEGIN:VEVENT
DTSTART;TZID=UTC:20240305T180000
DTEND;TZID=UTC:20240305T190000
DTSTAMP:20260423T084843
CREATED:20240304T184808Z
LAST-MODIFIED:20240304T184945Z
UID:8545-1709661600-1709665200@kristinabantyoga.com
SUMMARY:Power Vinyasa
DESCRIPTION:This is my regular class\, a fun\, faster-paced\, power vinyasa flow! This has become a popular “Tribe\,” come join! There are no poses that a beginner can’t do\, and I always cue for proper form and learning\, but the pace is picked up to a fun playlist\, great for athletes and the advanced yogi! Virtual practice is also available through the MindBody app. Go to yoganestvenice.com for sign-up!
URL:http://kristinabantyoga.com/event/power-vinyasa-86/
LOCATION:Yoga Nest Venice\, 38 Washington Blvd. 2nd fl.\, Marina del Rey\, CA\, 90292\, United States
CATEGORIES:Yoga
END:VEVENT
BEGIN:VEVENT
DTSTART;TZID=UTC:20240307T120000
DTEND;TZID=UTC:20240307T130000
DTSTAMP:20260423T084843
CREATED:20240304T185239Z
LAST-MODIFIED:20240304T185239Z
UID:8550-1709812800-1709816400@kristinabantyoga.com
SUMMARY:Power Vinyasa
DESCRIPTION:This is my regular class\, a fun\, faster-paced\, power vinyasa flow! This has become a popular “Tribe\,” come join! There are no poses that a beginner can’t do\, and I always cue for proper form and learning\, but the pace is picked up to a fun playlist\, great for athletes and the advanced yogi! Virtual practice is also available through the MindBody app. Go to yoganestvenice.com for sign-up!
URL:http://kristinabantyoga.com/event/power-vinyasa-87/
LOCATION:Yoga Nest Venice\, 38 Washington Blvd. 2nd fl.\, Marina del Rey\, CA\, 90292\, United States
CATEGORIES:Yoga
END:VEVENT
BEGIN:VEVENT
DTSTART;TZID=UTC:20240312T100000
DTEND;TZID=UTC:20240312T110000
DTSTAMP:20260423T084843
CREATED:20240304T185409Z
LAST-MODIFIED:20240304T185409Z
UID:8552-1710237600-1710241200@kristinabantyoga.com
SUMMARY:Power Vinyasa
DESCRIPTION:This is my regular class\, a fun\, faster-paced\, power vinyasa flow! This has become a popular “Tribe\,” come join! There are no poses that a beginner can’t do\, and I always cue for proper form and learning\, but the pace is picked up to a fun playlist\, great for athletes and the advanced yogi! Virtual practice is also available through the MindBody app. Go to yoganestvenice.com for sign-up!
URL:http://kristinabantyoga.com/event/power-vinyasa-88/
LOCATION:Yoga Nest Venice\, 38 Washington Blvd. 2nd fl.\, Marina del Rey\, CA\, 90292\, United States
CATEGORIES:Yoga
END:VEVENT
BEGIN:VEVENT
DTSTART;TZID=UTC:20240312T180000
DTEND;TZID=UTC:20240312T190000
DTSTAMP:20260423T084843
CREATED:20240304T185555Z
LAST-MODIFIED:20240304T185555Z
UID:8554-1710266400-1710270000@kristinabantyoga.com
SUMMARY:Power Vinyasa
DESCRIPTION:This is my regular class\, a fun\, faster-paced\, power vinyasa flow! This has become a popular “Tribe\,” come join! There are no poses that a beginner can’t do\, and I always cue for proper form and learning\, but the pace is picked up to a fun playlist\, great for athletes and the advanced yogi! Virtual practice is also available through the MindBody app. Go to yoganestvenice.com for sign-up!
URL:http://kristinabantyoga.com/event/power-vinyasa-89/
LOCATION:Yoga Nest Venice\, 38 Washington Blvd. 2nd fl.\, Marina del Rey\, CA\, 90292\, United States
CATEGORIES:Yoga
END:VEVENT
BEGIN:VEVENT
DTSTART;TZID=UTC:20240314T120000
DTEND;TZID=UTC:20240314T130000
DTSTAMP:20260423T084843
CREATED:20240304T185751Z
LAST-MODIFIED:20240304T185751Z
UID:8556-1710417600-1710421200@kristinabantyoga.com
SUMMARY:Power Vinyasa
DESCRIPTION:This is my regular class\, a fun\, faster-paced\, power vinyasa flow! This has become a popular “Tribe\,” come join! There are no poses that a beginner can’t do\, and I always cue for proper form and learning\, but the pace is picked up to a fun playlist\, great for athletes and the advanced yogi! Virtual practice is also available through the MindBody app. Go to yoganestvenice.com for sign-up!
URL:http://kristinabantyoga.com/event/power-vinyasa-90/
LOCATION:Yoga Nest Venice\, 38 Washington Blvd. 2nd fl.\, Marina del Rey\, CA\, 90292\, United States
CATEGORIES:Yoga
END:VEVENT
BEGIN:VEVENT
DTSTART;TZID=UTC:20240319T100000
DTEND;TZID=UTC:20240319T110000
DTSTAMP:20260423T084843
CREATED:20240304T185836Z
LAST-MODIFIED:20240304T185836Z
UID:8558-1710842400-1710846000@kristinabantyoga.com
SUMMARY:Power Vinyasa
DESCRIPTION:This is my regular class\, a fun\, faster-paced\, power vinyasa flow! This has become a popular “Tribe\,” come join! There are no poses that a beginner can’t do\, and I always cue for proper form and learning\, but the pace is picked up to a fun playlist\, great for athletes and the advanced yogi! Virtual practice is also available through the MindBody app. Go to yoganestvenice.com for sign-up!
URL:http://kristinabantyoga.com/event/power-vinyasa-91/
LOCATION:Yoga Nest Venice\, 38 Washington Blvd. 2nd fl.\, Marina del Rey\, CA\, 90292\, United States
CATEGORIES:Yoga
END:VEVENT
BEGIN:VEVENT
DTSTART;TZID=UTC:20240319T180000
DTEND;TZID=UTC:20240319T190000
DTSTAMP:20260423T084843
CREATED:20240304T185941Z
LAST-MODIFIED:20240304T185941Z
UID:8560-1710871200-1710874800@kristinabantyoga.com
SUMMARY:Power Vinyasa
DESCRIPTION:This is my regular class\, a fun\, faster-paced\, power vinyasa flow! This has become a popular “Tribe\,” come join! There are no poses that a beginner can’t do\, and I always cue for proper form and learning\, but the pace is picked up to a fun playlist\, great for athletes and the advanced yogi! Virtual practice is also available through the MindBody app. Go to yoganestvenice.com for sign-up!
URL:http://kristinabantyoga.com/event/power-vinyasa-92/
LOCATION:Yoga Nest Venice\, 38 Washington Blvd. 2nd fl.\, Marina del Rey\, CA\, 90292\, United States
CATEGORIES:Yoga
END:VEVENT
BEGIN:VEVENT
DTSTART;TZID=UTC:20240321T120000
DTEND;TZID=UTC:20240321T130000
DTSTAMP:20260423T084843
CREATED:20240304T190043Z
LAST-MODIFIED:20240304T190043Z
UID:8562-1711022400-1711026000@kristinabantyoga.com
SUMMARY:Power Vinyasa
DESCRIPTION:This is my regular class\, a fun\, faster-paced\, power vinyasa flow! This has become a popular “Tribe\,” come join! There are no poses that a beginner can’t do\, and I always cue for proper form and learning\, but the pace is picked up to a fun playlist\, great for athletes and the advanced yogi! Virtual practice is also available through the MindBody app. Go to yoganestvenice.com for sign-up!
URL:http://kristinabantyoga.com/event/power-vinyasa-93/
LOCATION:Yoga Nest Venice\, 38 Washington Blvd. 2nd fl.\, Marina del Rey\, CA\, 90292\, United States
CATEGORIES:Yoga
END:VEVENT
BEGIN:VEVENT
DTSTART;TZID=UTC:20240326T100000
DTEND;TZID=UTC:20240326T110000
DTSTAMP:20260423T084843
CREATED:20240304T190132Z
LAST-MODIFIED:20240304T190132Z
UID:8564-1711447200-1711450800@kristinabantyoga.com
SUMMARY:Power Vinyasa
DESCRIPTION:This is my regular class\, a fun\, faster-paced\, power vinyasa flow! This has become a popular “Tribe\,” come join! There are no poses that a beginner can’t do\, and I always cue for proper form and learning\, but the pace is picked up to a fun playlist\, great for athletes and the advanced yogi! Virtual practice is also available through the MindBody app. Go to yoganestvenice.com for sign-up!
URL:http://kristinabantyoga.com/event/power-vinyasa-94/
LOCATION:Yoga Nest Venice\, 38 Washington Blvd. 2nd fl.\, Marina del Rey\, CA\, 90292\, United States
CATEGORIES:Yoga
END:VEVENT
END:VCALENDAR