BEGIN:VCALENDAR
VERSION:2.0
PRODID:-//Kristina Bant - ECPv6.15.20//NONSGML v1.0//EN
CALSCALE:GREGORIAN
METHOD:PUBLISH
X-WR-CALNAME:Kristina Bant
X-ORIGINAL-URL:http://kristinabantyoga.com
X-WR-CALDESC:Events for Kristina Bant
REFRESH-INTERVAL;VALUE=DURATION:PT1H
X-Robots-Tag:noindex
X-PUBLISHED-TTL:PT1H
BEGIN:VTIMEZONE
TZID:UTC
BEGIN:STANDARD
TZOFFSETFROM:+0000
TZOFFSETTO:+0000
TZNAME:UTC
DTSTART:20220101T000000
END:STANDARD
END:VTIMEZONE
BEGIN:VEVENT
DTSTART;VALUE=DATE:20231214
DTEND;VALUE=DATE:20240102
DTSTAMP:20260423T200153
CREATED:20231116T225340Z
LAST-MODIFIED:20231116T225340Z
UID:8529-1702512000-1704153599@kristinabantyoga.com
SUMMARY:Travel to Copenhagen!
DESCRIPTION:I will miss you ALL SO MUCH… but I am also so happy to be going home for the holidays to sit and “hygge” with family and eat myself silly on Danish-home-cooking! 🙂 I’ll be back right away on New Year’s Day to kick off a POWER New Year with all my yogi-friends! Happy Holidays\, Yogi’s! 🙂
URL:http://kristinabantyoga.com/event/travel-to-copenhagen/
LOCATION:CA
CATEGORIES:Upcoming,Yoga
END:VEVENT
BEGIN:VEVENT
DTSTART;TZID=UTC:20240130T100000
DTEND;TZID=UTC:20240130T100000
DTSTAMP:20260423T200153
CREATED:20240304T193201Z
LAST-MODIFIED:20240304T193201Z
UID:8631-1706608800-1706608800@kristinabantyoga.com
SUMMARY:Power Vinyasa
DESCRIPTION:This is my regular class\, a fun\, faster-paced\, power vinyasa flow! This has become a popular “Tribe\,” come join! There are no poses that a beginner can’t do\, and I always cue for proper form and learning\, but the pace is picked up to a fun playlist\, great for athletes and the advanced yogi! Virtual practice is also available through the MindBody app. Go to yoganestvenice.com for sign-up!
URL:http://kristinabantyoga.com/event/power-vinyasa-125/
LOCATION:Yoga Nest Venice\, 38 Washington Blvd. 2nd fl.\, Marina del Rey\, CA\, 90292\, United States
CATEGORIES:Yoga
END:VEVENT
BEGIN:VEVENT
DTSTART;TZID=UTC:20240130T180000
DTEND;TZID=UTC:20240130T190000
DTSTAMP:20260423T200153
CREATED:20240304T193105Z
LAST-MODIFIED:20240304T193107Z
UID:8629-1706637600-1706641200@kristinabantyoga.com
SUMMARY:Power Vinyasa
DESCRIPTION:IT’S OFFICIAL… due to popular demand\, I’ve added an evening class to my regular schedule!! Thank you\, Yogi’s\, for all your requests and love! So\, now this is my regular class\, a fun\, faster-paced\, power vinyasa flow! This has become a popular “Tribe\,” come join! There are no poses that a beginner can’t do\, and I always cue for proper form and learning\, but the pace is picked up to a fun playlist\, great for athletes and the advanced yogi! Virtual practice is also available through the MindBody app. Go to yoganestvenice.com for sign-up!
URL:http://kristinabantyoga.com/event/power-vinyasa-124/
LOCATION:Yoga Nest Venice\, 38 Washington Blvd. 2nd fl.\, Marina del Rey\, CA\, 90292\, United States
CATEGORIES:Yoga
END:VEVENT
END:VCALENDAR