BEGIN:VCALENDAR
VERSION:2.0
PRODID:-//Kristina Bant - ECPv6.15.20//NONSGML v1.0//EN
CALSCALE:GREGORIAN
METHOD:PUBLISH
X-ORIGINAL-URL:http://kristinabantyoga.com
X-WR-CALDESC:Events for Kristina Bant
REFRESH-INTERVAL;VALUE=DURATION:PT1H
X-Robots-Tag:noindex
X-PUBLISHED-TTL:PT1H
BEGIN:VTIMEZONE
TZID:UTC
BEGIN:STANDARD
TZOFFSETFROM:+0000
TZOFFSETTO:+0000
TZNAME:UTC
DTSTART:20220101T000000
END:STANDARD
END:VTIMEZONE
BEGIN:VEVENT
DTSTART;TZID=UTC:20231125T110000
DTEND;TZID=UTC:20231125T121500
DTSTAMP:20260424T072144
CREATED:20231116T224941Z
LAST-MODIFIED:20231116T224941Z
UID:8527-1700910000-1700914500@kristinabantyoga.com
SUMMARY:Power Vinyasa
DESCRIPTION:I am subbing today for a longer (75 min.)\, fun\, faster-paced\, power vinyasa flow! Come join! There are no poses that a beginner can’t do\, and I always cue for proper form and learning\, but the pace is picked up to a fun playlist\, great for athletes and the advanced yogi! Virtual practice is also available through the MindBody app. Go to yoganestvenice.com for sign-up!
URL:http://kristinabantyoga.com/event/power-vinyasa-84/
LOCATION:Yoga Nest Venice\, 38 Washington Blvd. 2nd fl.\, Marina del Rey\, CA\, 90292\, United States
CATEGORIES:Yoga
END:VEVENT
END:VCALENDAR